BEGIN:VCALENDAR
VERSION:2.0
PRODID:-//Squarespace Inc/Squarespace 6//v6//EN
BEGIN:VEVENT
UID:5d7b44fbe0321037c4363cd3@squarespace.com
DTSTAMP:20190913T073007Z
DTSTART:20190923T223000Z
DTEND:20190924T070000Z
SUMMARY:Upgrade Your Selfie - Beta Session
GEO:-33.886624;151.208047
LOCATION:Bustle Studio's\, Level 1\, 457 Elizabeth Street\, Surry Hills\, N
 SW\, Australia
END:VEVENT
END:VCALENDAR
